BEGIN:VCALENDAR
VERSION:2.0
PRODID:-//Sabre//Sabre VObject 4.5.8//EN
CALSCALE:GREGORIAN
BEGIN:VTIMEZONE
TZID:Europe/Zurich
X-LIC-LOCATION:Europe/Zurich
TZURL:http://tzurl.org/zoneinfo/Europe/Zurich
BEGIN:DAYLIGHT
TZOFFSETFROM:+0100
TZOFFSETTO:+0200
TZNAME:CEST
DTSTART:19810329T020000
RRULE:FREQ=YEARLY;BYMONTH=3;BYDAY=-1SU
END:DAYLIGHT
BEGIN:STANDARD
TZOFFSETFROM:+0200
TZOFFSETTO:+0100
TZNAME:CET
DTSTART:19961027T030000
RRULE:FREQ=YEARLY;BYMONTH=10;BYDAY=-1SU
END:STANDARD
END:VTIMEZONE
BEGIN:VEVENT
UID:news62@gsmhs.unibas.ch
DTSTAMP;TZID=Europe/Zurich:20260415T182218
DTSTART;TZID=Europe/Zurich:20260505T140000
SUMMARY:GSMHS PhD Day
DESCRIPTION:Program includes\\r\\nStudent presentationsWorld Café Workshop
 : feedback by PhD students about the program\, what courses should stay\, 
 what courses or offerings are you missing\, do you feel well-informed\, et
 c.Apéro\\r\\nMore information and registration [https://gsmhs.unibas.ch/e
 n/events-activities/phd-day/]
X-ALT-DESC:<p>Program includes</p>\n<ul><li>Student presentations</li><li>W
 orld Café Workshop: <span>feedback by PhD students about the program\, wh
 at courses should stay\, what courses or offerings are you missing\, do yo
 u feel well-informed\, etc.</span></li><li><span>Apéro</span></li></ul>\n
 <p><a href="https://gsmhs.unibas.ch/en/events-activities/phd-day/">More in
 formation and registration</a></p>
DTEND;TZID=Europe/Zurich:20260505T170000
END:VEVENT
END:VCALENDAR
